BEGIN:VCALENDAR
PRODID:-//AT Content Types//AT Event//EN
VERSION:2.0
METHOD:PUBLISH
BEGIN:VEVENT
DTSTAMP:20260424T151604Z
CREATED:20230912T084931Z
UID:ATEvent-71b53e825a884d54b18a57d2d52d04eb
LAST-MODIFIED:20230912T084932Z
SUMMARY:Assessor briefing
DTSTART:20230925T110000Z
DTEND:20230925T120000Z
DESCRIPTION:Planned for and time to be confirmed
CLASS:PUBLIC
END:VEVENT
END:VCALENDAR
