BEGIN:VCALENDAR
PRODID:-//AT Content Types//AT Event//EN
VERSION:2.0
METHOD:PUBLISH
BEGIN:VEVENT
DTSTAMP:20260423T071320Z
CREATED:20260116T121029Z
UID:ATEvent-47688e77051d4c7cbf9bb13f409a07e1
LAST-MODIFIED:20260116T121641Z
SUMMARY:BBSRC Networks Workshop: Sharing Best Practice in Equality\, Diversity and Inclusion (EDI)
DTSTART:20260210T093000Z
DTEND:20260210T150000Z
LOCATION:Microsoft Teams
CLASS:PUBLIC
END:VEVENT
END:VCALENDAR
