BEGIN:VCALENDAR
PRODID:-//AT Content Types//AT Event//EN
VERSION:2.0
METHOD:PUBLISH
BEGIN:VEVENT
DTSTAMP:20260420T051548Z
CREATED:20250807T072838Z
UID:ATEvent-4dfdf3873f37463b8016c186d9c1a77a
LAST-MODIFIED:20250924T165602Z
SUMMARY:RICHeS Access Fund: Launch Webinar
DTSTART:20251021T120000Z
DTEND:20251021T130000Z
DESCRIPTION:Please register using this link:\n\nhttps://ukri.zoom.us/w
 ebinar/register/WN_Hq0Rg4RwTaCPXZB0ucC4EQ#/registration
CLASS:PUBLIC
END:VEVENT
END:VCALENDAR
