BEGIN:VCALENDAR
PRODID:-//AT Content Types//AT Event//EN
VERSION:2.0
METHOD:PUBLISH
BEGIN:VEVENT
DTSTAMP:20260420T055212Z
CREATED:20250213T151516Z
UID:ATEvent-300188d7bb8246008a4ea9254e47b554
LAST-MODIFIED:20250220T144904Z
SUMMARY:DiSSCo UK Community Workshop
DTSTART:20250227T140000Z
DTEND:20250327T153000Z
DESCRIPTION:Community workshop to update on the expression of interest
 \, hub principles and technical infrastructure. Please email dissco-uk
 @nhm.ac.uk to be forwarded the meeting invite.
CLASS:PUBLIC
END:VEVENT
END:VCALENDAR
